<?xml version="1.0" encoding="UTF-8" standalone="no"?>
<metadata xml:lang="en">
<Esri>
<CreaDate>20190110</CreaDate>
<CreaTime>10331100</CreaTime>
<ArcGISFormat>1.0</ArcGISFormat>
<ArcGISstyle>FGDC CSDGM Metadata</ArcGISstyle>
<SyncOnce>FALSE</SyncOnce>
<DataProperties>
<itemProps>
<itemName Sync="TRUE">RelMitEstimate_20190110_WKID2992</itemName>
<imsContentType Sync="TRUE">002</imsContentType>
<nativeExtBox>
<westBL Sync="TRUE">308179.190672</westBL>
<eastBL Sync="TRUE">715370.654672</eastBL>
<southBL Sync="TRUE">25766.873348</southBL>
<northBL Sync="TRUE">396866.969348</northBL>
<exTypeCode Sync="TRUE">1</exTypeCode>
</nativeExtBox>
</itemProps>
<coordRef>
<type Sync="TRUE">Projected</type>
<geogcsn Sync="TRUE">GCS_North_American_1983</geogcsn>
<csUnits Sync="TRUE">Linear Unit: Meter (1.000000)</csUnits>
<projcsn Sync="TRUE">NAD_1983_Oregon_Statewide_Lambert</projcsn>
<peXml Sync="TRUE">&lt;ProjectedCoordinateSystem xsi:type='typens:ProjectedCoordinateSystem' xmlns:xsi='http://www.w3.org/2001/XMLSchema-instance' xmlns:xs='http://www.w3.org/2001/XMLSchema' xmlns:typens='http://www.esri.com/schemas/ArcGIS/10.4'&gt;&lt;WKT&gt;PROJCS[&amp;quot;NAD_1983_Oregon_Statewide_Lambert&amp;quot;,GEOGCS[&amp;quot;GCS_North_American_1983&amp;quot;,DATUM[&amp;quot;D_North_American_1983&amp;quot;,SPHEROID[&amp;quot;GRS_1980&amp;quot;,6378137.0,298.257222101]],PRIMEM[&amp;quot;Greenwich&amp;quot;,0.0],UNIT[&amp;quot;Degree&amp;quot;,0.0174532925199433]],PROJECTION[&amp;quot;Lambert_Conformal_Conic&amp;quot;],PARAMETER[&amp;quot;False_Easting&amp;quot;,400000.0],PARAMETER[&amp;quot;False_Northing&amp;quot;,0.0],PARAMETER[&amp;quot;Central_Meridian&amp;quot;,-120.5],PARAMETER[&amp;quot;Standard_Parallel_1&amp;quot;,43.0],PARAMETER[&amp;quot;Standard_Parallel_2&amp;quot;,45.5],PARAMETER[&amp;quot;Latitude_Of_Origin&amp;quot;,41.75],UNIT[&amp;quot;Meter&amp;quot;,1.0],AUTHORITY[&amp;quot;EPSG&amp;quot;,2991]]&lt;/WKT&gt;&lt;XOrigin&gt;-36115500&lt;/XOrigin&gt;&lt;YOrigin&gt;-29681800&lt;/YOrigin&gt;&lt;XYScale&gt;123333916.48397242&lt;/XYScale&gt;&lt;ZOrigin&gt;0&lt;/ZOrigin&gt;&lt;ZScale&gt;1&lt;/ZScale&gt;&lt;MOrigin&gt;0&lt;/MOrigin&gt;&lt;MScale&gt;1&lt;/MScale&gt;&lt;XYTolerance&gt;0.001&lt;/XYTolerance&gt;&lt;ZTolerance&gt;0.001&lt;/ZTolerance&gt;&lt;MTolerance&gt;0.001&lt;/MTolerance&gt;&lt;HighPrecision&gt;true&lt;/HighPrecision&gt;&lt;WKID&gt;2991&lt;/WKID&gt;&lt;LatestWKID&gt;2991&lt;/LatestWKID&gt;&lt;/ProjectedCoordinateSystem&gt;</peXml>
</coordRef>
</DataProperties>
<SyncDate>20190122</SyncDate>
<SyncTime>09483600</SyncTime>
<ModDate>20190122</ModDate>
<ModTime>09483600</ModTime>
</Esri>
<dataIdInfo>
<envirDesc Sync="TRUE"> Version 6.2 (Build 9200) ; Esri ArcGIS 10.4.1.5686</envirDesc>
<dataLang>
<languageCode Sync="TRUE" value="eng">
</languageCode>
<countryCode Sync="TRUE" value="USA">
</countryCode>
</dataLang>
<idCitation>
<resTitle Sync="TRUE">RelMitEstimate_20190110_WKID2992</resTitle>
<presForm>
<PresFormCd Sync="TRUE" value="011">
</PresFormCd>
</presForm>
</idCitation>
<spatRpType>
<SpatRepTypCd Sync="TRUE" value="002">
</SpatRepTypCd>
</spatRpType>
<dataExt>
<geoEle>
<GeoBndBox esriExtentType="search">
<exTypeCode Sync="TRUE">1</exTypeCode>
<westBL Sync="TRUE">-121.671120</westBL>
<eastBL Sync="TRUE">-116.480574</eastBL>
<northBL Sync="TRUE">45.322056</northBL>
<southBL Sync="TRUE">41.916151</southBL>
</GeoBndBox>
</geoEle>
</dataExt>
<idAbs>Vegetation data developed by the Institute for Natural Resources form the backbone of this dataset. Percent cover of sagebrush, annual invasive grasses, perennial grasses and tree cover are used to place each pixel in an 'Ecological State'. These 'States' are valued from 0 - 1, with 1 representing excellent sagebrush habitat. The value of each pixel may then be adjusted, up or down, depending on several factors such as proximity to existing development, whether the pixel falls within sage-grouse 'Core Areas', etc. In this final version, pixel values range from 0 - 1.</idAbs>
<searchKeys>
<keyword>Greater sage-grouse</keyword>
<keyword>habitat value</keyword>
<keyword>mitigation</keyword>
</searchKeys>
<idPurp>These data represent an estimate of the relative habitat value of each 30m pixel, per guidelines associate with ODFW's sage-grouse management plan. They will be used to encourage development projects into areas of low quality sage-grouse habitat.</idPurp>
<idCredit>The Nature Conservancy, The Institute for Natural Resources, The Willamette Partnership, Oregon Department of Fish and Wildlife</idCredit>
<resConst>
<Consts>
<useLimit>The Nature Conservancy shall not be held liable for improper or incorrect use of the data described and/or contained herein. Any sale, distribution, loan, or offering for use of these digital data, in whole or in part, is prohibited without the approval of the Nature Conservancy. The use of these data to produce other GIS products and services with the intent to sell for a profit is prohibited without the written consent of the Nature Conservancy. All parties receiving these data must be informed of these restrictions. The Nature Conservancy shall be acknowledged as data contributors to any reports or other products derived from these data.</useLimit>
</Consts>
</resConst>
</dataIdInfo>
<mdLang>
<languageCode Sync="TRUE" value="eng">
</languageCode>
<countryCode Sync="TRUE" value="USA">
</countryCode>
</mdLang>
<distInfo>
<distFormat>
<formatName Sync="TRUE">File Geodatabase Raster Dataset</formatName>
</distFormat>
</distInfo>
<mdHrLv>
<ScopeCd Sync="TRUE" value="005">
</ScopeCd>
</mdHrLv>
<mdHrLvName Sync="TRUE">dataset</mdHrLvName>
<refSysInfo>
<RefSystem>
<refSysID>
<identCode Sync="TRUE" code="2991">
</identCode>
<idCodeSpace Sync="TRUE">EPSG</idCodeSpace>
<idVersion Sync="TRUE">8.5(9.0.0)</idVersion>
</refSysID>
</RefSystem>
</refSysInfo>
<spdoinfo>
<rastinfo>
<rasttype Sync="TRUE">Pixel</rasttype>
<rowcount Sync="TRUE">40584</rowcount>
<colcount Sync="TRUE">44531</colcount>
<rastxsz Sync="TRUE">9.144000</rastxsz>
<rastysz Sync="TRUE">9.144000</rastysz>
<rastbpp Sync="TRUE">64</rastbpp>
<vrtcount Sync="TRUE">1</vrtcount>
<rastorig Sync="TRUE">Upper Left</rastorig>
<rastcmap Sync="TRUE">FALSE</rastcmap>
<rastcomp Sync="TRUE">LZ77</rastcomp>
<rastband Sync="TRUE">1</rastband>
<rastdtyp Sync="TRUE">pixel codes</rastdtyp>
<rastifor Sync="TRUE">FGDBR</rastifor>
<rastplyr Sync="TRUE">TRUE</rastplyr>
</rastinfo>
</spdoinfo>
<spref>
<horizsys>
<planar>
<planci>
<plance Sync="TRUE">row and column</plance>
<coordrep>
<absres Sync="TRUE">9.144000</absres>
<ordres Sync="TRUE">9.144000</ordres>
</coordrep>
</planci>
</planar>
</horizsys>
</spref>
<mdDateSt Sync="TRUE">20190122</mdDateSt>
</metadata>
