{
 "currentVersion": 11.4,
 "serviceDescription": "Vegetation data developed by the Institute for Natural Resources form the backbone of this dataset. Percent cover of sagebrush, annual invasive grasses, perennial grasses and tree cover are used to place each pixel in an 'Ecological State'. These 'States' are valued from 0 - 1, with 1 representing excellent sagebrush habitat. The value of each pixel may then be adjusted, up or down, depending on several factors such as proximity to existing development, whether the pixel falls within sage-grouse 'Core Areas', etc. In this final version, pixel values range from 0 - 1.",
 "name": "SageGrouse/SageGrouse_RelMitEst_ImageService",
 "description": "Vegetation data developed by the Institute for Natural Resources form the backbone of this dataset. Percent cover of sagebrush, annual invasive grasses, perennial grasses and tree cover are used to place each pixel in an 'Ecological State'. These 'States' are valued from 0 - 1, with 1 representing excellent sagebrush habitat. The value of each pixel may then be adjusted, up or down, depending on several factors such as proximity to existing development, whether the pixel falls within sage-grouse 'Core Areas', etc. In this final version, pixel values range from 0 - 1.",
 "extent": {
  "xmin": 308179.1906722907,
  "ymin": 25766.969348150305,
  "xmax": 715369.1906722907,
  "ymax": 396866.9693481503,
  "spatialReference": {
   "wkid": 2991,
   "latestWkid": 2991
  }
 },
 "initialExtent": {
  "xmin": 308179.1906722907,
  "ymin": 25766.969348150305,
  "xmax": 715369.1906722907,
  "ymax": 396866.9693481503,
  "spatialReference": {
   "wkid": 2991,
   "latestWkid": 2991
  }
 },
 "fullExtent": {
  "xmin": 308179.1906722907,
  "ymin": 25766.969348150305,
  "xmax": 715369.1906722907,
  "ymax": 396866.9693481503,
  "spatialReference": {
   "wkid": 2991,
   "latestWkid": 2991
  }
 },
 "sortableFields": "",
 "bandCount": 1,
 "pixelType": "F64",
 "minValues": [
  0
 ],
 "maxValues": [
  1
 ],
 "meanValues": [
  0.20686971227930287
 ],
 "stdvValues": [
  0.2964327789688444
 ],
 "hasMultidimensions": false,
 "pixelSizeX": 30.000000000000004,
 "pixelSizeY": 30,
 "meanPixelSize": 30,
 "datasetFormat": "FGDBR",
 "uncompressedSize": 1343184080,
 "blockWidth": 128,
 "blockHeight": 128,
 "compressionType": "LZ77",
 "bandNames": [
  "Band_1"
 ],
 "allowCopy": true,
 "allowAnalysis": true,
 "itemAccess": false,
 "inspectionCapabilities": "",
 "minPixelSize": 0,
 "maxPixelSize": 0,
 "copyrightText": "The Nature Conservancy, The Institute for Natural Resources, The Willamette Partnership, Oregon Department of Fish and Wildlife",
 "serviceDataType": "esriImageServiceDataTypeGeneric",
 "serviceSourceType": "esriImageServiceSourceTypeDataset",
 "objectIdField": "",
 "fields": [],
 "capabilities": "Image,Metadata,Mensuration",
 "defaultMosaicMethod": "Center",
 "allowedMosaicMethods": "",
 "sortField": "",
 "sortValue": null,
 "sortAscending": true,
 "mosaicOperator": "First",
 "defaultCompressionQuality": 75,
 "defaultResamplingMethod": "Bilinear",
 "maxImageHeight": 4100,
 "maxImageWidth": 15000,
 "allowRasterFunction": true,
 "rasterFunctionInfos": [
  {
   "name": "None",
   "description": "",
   "help": ""
  }
 ],
 "rasterTypeInfos": [
  {
   "name": "Raster Dataset",
   "description": "Supports all ArcGIS Raster Datasets",
   "help": ""
  }
 ],
 "mensurationCapabilities": "Basic",
 "hasHistograms": true,
 "hasColormap": false,
 "hasRasterAttributeTable": false,
 "minScale": 0,
 "maxScale": 0,
 "exportTilesAllowed": false,
 "supportsStatistics": false,
 "supportsAdvancedQueries": false,
 "editFieldsInfo": null,
 "ownershipBasedAccessControlForRasters": null,
 "allowComputeTiePoints": false,
 "useStandardizedQueries": true,
 "advancedQueryCapabilities": {
  "useStandardizedQueries": true,
  "supportsStatistics": false,
  "supportsOrderBy": false,
  "supportsDistinct": false,
  "supportsPagination": false
 },
 "spatialReference": {
  "wkid": 2991,
  "latestWkid": 2991
 }
}
