{
 "currentVersion": 11.4,
 "serviceDescription": "Test/KeyHab2026_100m_PonderosaPineWoodland_tif",
 "name": "Test/KeyHab2026_100m_PonderosaPineWoodland_tif",
 "description": "",
 "extent": {
  "xmin": 362101.66587329365,
  "ymin": 4631802.615731806,
  "xmax": 1037101.6658732936,
  "ymax": 5140702.615731806,
  "spatialReference": {
   "wkid": 32610,
   "latestWkid": 32610
  }
 },
 "initialExtent": {
  "xmin": 362101.66587329365,
  "ymin": 4631802.615731806,
  "xmax": 1037101.6658732936,
  "ymax": 5140702.615731806,
  "spatialReference": {
   "wkid": 32610,
   "latestWkid": 32610
  }
 },
 "fullExtent": {
  "xmin": 362101.66587329365,
  "ymin": 4631802.615731806,
  "xmax": 1037101.6658732936,
  "ymax": 5140702.615731806,
  "spatialReference": {
   "wkid": 32610,
   "latestWkid": 32610
  }
 },
 "sortableFields": "",
 "bandCount": 1,
 "pixelType": "U8",
 "minValues": [
  0
 ],
 "maxValues": [
  9
 ],
 "meanValues": [
  0.5745946158382
 ],
 "stdvValues": [
  2.200271053967
 ],
 "hasMultidimensions": false,
 "pixelSizeX": 100,
 "pixelSizeY": 100,
 "meanPixelSize": 100,
 "datasetFormat": "TIFF",
 "uncompressedSize": 34350750,
 "blockWidth": 128,
 "blockHeight": 128,
 "compressionType": "LZW",
 "bandNames": [
  "Band_1"
 ],
 "allowCopy": true,
 "allowAnalysis": true,
 "itemAccess": false,
 "inspectionCapabilities": "",
 "minPixelSize": 0,
 "maxPixelSize": 0,
 "copyrightText": "",
 "serviceDataType": "esriImageServiceDataTypeThematic",
 "serviceSourceType": "esriImageServiceSourceTypeDataset",
 "objectIdField": "",
 "fields": [],
 "capabilities": "Image,Metadata,Mensuration",
 "defaultMosaicMethod": "Center",
 "allowedMosaicMethods": "",
 "sortField": "",
 "sortValue": null,
 "sortAscending": true,
 "mosaicOperator": "First",
 "defaultCompressionQuality": 75,
 "defaultResamplingMethod": "Bilinear",
 "maxImageHeight": 4100,
 "maxImageWidth": 15000,
 "allowRasterFunction": true,
 "rasterFunctionInfos": [
  {
   "name": "None",
   "description": "",
   "help": ""
  }
 ],
 "rasterTypeInfos": [
  {
   "name": "Raster Dataset",
   "description": "Supports all ArcGIS Raster Datasets",
   "help": ""
  }
 ],
 "mensurationCapabilities": "Basic",
 "hasHistograms": true,
 "hasColormap": false,
 "hasRasterAttributeTable": true,
 "minScale": 0,
 "maxScale": 0,
 "exportTilesAllowed": false,
 "supportsStatistics": false,
 "supportsAdvancedQueries": false,
 "editFieldsInfo": null,
 "ownershipBasedAccessControlForRasters": null,
 "allowComputeTiePoints": false,
 "useStandardizedQueries": true,
 "advancedQueryCapabilities": {
  "useStandardizedQueries": true,
  "supportsStatistics": false,
  "supportsOrderBy": false,
  "supportsDistinct": false,
  "supportsPagination": false
 },
 "spatialReference": {
  "wkid": 32610,
  "latestWkid": 32610
 }
}
