View In:
ArcGIS JavaScript
ArcGIS Online Map Viewer
ArcGIS Earth
Service Description: Compass/KeyHab2026_ras_WGS84WebMerc_100m_terrestrial
Name: Compass/KeyHab2026_ras_WGS84WebMerc_100m_terrestrial
Description:
Single Fused Map Cache: false
Extent:
XMin: -1.3975180655194089E7
YMin: 5076982.320670923
XMax: -1.271548182742406E7
YMax: 5929363.722376956
Spatial Reference: 102100
(3857)
LatestVCSWkid(0)
Initial Extent:
XMin: -1.3975180655194089E7
YMin: 5076982.320670923
XMax: -1.271548182742406E7
YMax: 5929363.722376956
Spatial Reference: 102100
(3857)
LatestVCSWkid(0)
Full Extent:
XMin: -1.3975180655194089E7
YMin: 5076982.320670923
XMax: -1.271548182742406E7
YMax: 5929363.722376956
Spatial Reference: 102100
(3857)
LatestVCSWkid(0)
Pixel Size X: 109.21612864314447
Pixel Size Y: 105.55806832272847
Band Count: 1
Pixel Type: U8
RasterFunction Infos: {"rasterFunctionInfos": [{
"name": "None",
"description": "",
"help": ""
}]}
Mensuration Capabilities: Basic
Inspection Capabilities:
Has Histograms: true
Has Colormap: false
Has Multi Dimensions : false
Rendering Rule:
Min Scale: 0
Max Scale: 0
Copyright Text:
Service Data Type: esriImageServiceDataTypeGeneric
Min Values: 0
Max Values: 7
Mean Values: 1.9513071934995188
Standard Deviation Values: 2.9010245747280115
Object ID Field:
Fields:
None
Default Mosaic Method: Center
Allowed Mosaic Methods:
SortField:
SortValue: null
Mosaic Operator: First
Default Compression Quality: 75
Default Resampling Method: Bilinear
Max Record Count: null
Max Image Height: 4100
Max Image Width: 15000
Max Download Image Count: null
Max Mosaic Image Count: null
Allow Raster Function: true
Allow Copy: true
Allow Analysis: true
Allow Compute TiePoints: false
Supports Statistics: false
Supports Advanced Queries: false
Use StandardizedQueries: true
Raster Type Infos:
Name: Raster Dataset
Description: Supports all ArcGIS Raster Datasets
Help:
Has Raster Attribute Table: true
Edit Fields Info: null
Ownership Based AccessControl For Rasters: null
Child Resources:
Info
Raster Attribute Table
Histograms
Statistics
Key Properties
Legend
Raster Function Infos
Supported Operations:
Export Image
Identify
Measure
Compute Histograms
Compute Statistics Histograms
Get Samples
Compute Class Statistics
Query Boundary
Compute Pixel Location
Compute Angles
Validate
Project