View In:
ArcGIS JavaScript
ArcGIS Online Map Viewer
ArcGIS Earth
Service Description: Vegetation data developed by the Institute for Natural Resources form the backbone of this dataset. Percent cover of sagebrush, annual invasive grasses, perennial grasses and tree cover are used to place each pixel in an 'Ecological State'. These 'States' are valued from 0 - 1, with 1 representing excellent sagebrush habitat. The value of each pixel may then be adjusted, up or down, depending on several factors such as proximity to existing development, whether the pixel falls within sage-grouse 'Core Areas', etc. In this final version, pixel values range from 0 - 1.
Name: SageGrouse/SageGrouse_RelMitEst_ImageService
Description: Vegetation data developed by the Institute for Natural Resources form the backbone of this dataset. Percent cover of sagebrush, annual invasive grasses, perennial grasses and tree cover are used to place each pixel in an 'Ecological State'. These 'States' are valued from 0 - 1, with 1 representing excellent sagebrush habitat. The value of each pixel may then be adjusted, up or down, depending on several factors such as proximity to existing development, whether the pixel falls within sage-grouse 'Core Areas', etc. In this final version, pixel values range from 0 - 1.
Single Fused Map Cache: false
Extent:
XMin: 308179.1906722907
YMin: 25766.969348150305
XMax: 715369.1906722907
YMax: 396866.9693481503
Spatial Reference: 2991
(2991)
LatestVCSWkid(0)
Initial Extent:
XMin: 308179.1906722907
YMin: 25766.969348150305
XMax: 715369.1906722907
YMax: 396866.9693481503
Spatial Reference: 2991
(2991)
LatestVCSWkid(0)
Full Extent:
XMin: 308179.1906722907
YMin: 25766.969348150305
XMax: 715369.1906722907
YMax: 396866.9693481503
Spatial Reference: 2991
(2991)
LatestVCSWkid(0)
Pixel Size X: 30.000000000000004
Pixel Size Y: 30.0
Band Count: 1
Pixel Type: F64
RasterFunction Infos: {"rasterFunctionInfos": [{
"name": "None",
"description": "",
"help": ""
}]}
Mensuration Capabilities: Basic
Inspection Capabilities:
Has Histograms: true
Has Colormap: false
Has Multi Dimensions : false
Rendering Rule:
Min Scale: 0
Max Scale: 0
Copyright Text: The Nature Conservancy, The Institute for Natural Resources, The Willamette Partnership, Oregon Department of Fish and Wildlife
Service Data Type: esriImageServiceDataTypeGeneric
Min Values: 0
Max Values: 1
Mean Values: 0.20686971227930287
Standard Deviation Values: 0.2964327789688444
Object ID Field:
Fields:
None
Default Mosaic Method: Center
Allowed Mosaic Methods:
SortField:
SortValue: null
Mosaic Operator: First
Default Compression Quality: 75
Default Resampling Method: Bilinear
Max Record Count: null
Max Image Height: 4100
Max Image Width: 15000
Max Download Image Count: null
Max Mosaic Image Count: null
Allow Raster Function: true
Allow Copy: true
Allow Analysis: true
Allow Compute TiePoints: false
Supports Statistics: false
Supports Advanced Queries: false
Use StandardizedQueries: true
Raster Type Infos:
Name: Raster Dataset
Description: Supports all ArcGIS Raster Datasets
Help:
Has Raster Attribute Table: false
Edit Fields Info: null
Ownership Based AccessControl For Rasters: null
Child Resources:
Info
Histograms
Statistics
Key Properties
Legend
Raster Function Infos
Supported Operations:
Export Image
Identify
Measure
Compute Histograms
Compute Statistics Histograms
Get Samples
Compute Class Statistics
Query Boundary
Compute Pixel Location
Compute Angles
Validate
Project