View In:
ArcGIS JavaScript
ArcGIS Online Map Viewer
ArcGIS Earth
Service Description: Test/KeyHab2026_100m_PonderosaPineWoodland_tif
Name: Test/KeyHab2026_100m_PonderosaPineWoodland_tif
Description:
Single Fused Map Cache: false
Extent:
XMin: 362101.66587329365
YMin: 4631802.615731806
XMax: 1037101.6658732936
YMax: 5140702.615731806
Spatial Reference: 32610
(32610)
LatestVCSWkid(0)
Initial Extent:
XMin: 362101.66587329365
YMin: 4631802.615731806
XMax: 1037101.6658732936
YMax: 5140702.615731806
Spatial Reference: 32610
(32610)
LatestVCSWkid(0)
Full Extent:
XMin: 362101.66587329365
YMin: 4631802.615731806
XMax: 1037101.6658732936
YMax: 5140702.615731806
Spatial Reference: 32610
(32610)
LatestVCSWkid(0)
Pixel Size X: 100.0
Pixel Size Y: 100.0
Band Count: 1
Pixel Type: U8
RasterFunction Infos: {"rasterFunctionInfos": [{
"name": "None",
"description": "",
"help": ""
}]}
Mensuration Capabilities: Basic
Inspection Capabilities:
Has Histograms: true
Has Colormap: false
Has Multi Dimensions : false
Rendering Rule:
Min Scale: 0
Max Scale: 0
Copyright Text:
Service Data Type: esriImageServiceDataTypeThematic
Min Values: 0
Max Values: 9
Mean Values: 0.5745946158382
Standard Deviation Values: 2.200271053967
Object ID Field:
Fields:
None
Default Mosaic Method: Center
Allowed Mosaic Methods:
SortField:
SortValue: null
Mosaic Operator: First
Default Compression Quality: 75
Default Resampling Method: Bilinear
Max Record Count: null
Max Image Height: 4100
Max Image Width: 15000
Max Download Image Count: null
Max Mosaic Image Count: null
Allow Raster Function: true
Allow Copy: true
Allow Analysis: true
Allow Compute TiePoints: false
Supports Statistics: false
Supports Advanced Queries: false
Use StandardizedQueries: true
Raster Type Infos:
Name: Raster Dataset
Description: Supports all ArcGIS Raster Datasets
Help:
Has Raster Attribute Table: true
Edit Fields Info: null
Ownership Based AccessControl For Rasters: null
Child Resources:
Info
Raster Attribute Table
Histograms
Statistics
Key Properties
Legend
Raster Function Infos
Supported Operations:
Export Image
Identify
Measure
Compute Histograms
Compute Statistics Histograms
Get Samples
Compute Class Statistics
Query Boundary
Compute Pixel Location
Compute Angles
Validate
Project